BEGIN:VCALENDAR
VERSION:2.0
PRODID:-//ChamberMaster//Event Calendar 2.0//EN
METHOD:PUBLISH
X-PUBLISHED-TTL:P3D
REFRESH-INTERVAL:P3D
CALSCALE:GREGORIAN
BEGIN:VEVENT
DTSTART:20240923T210000Z
DTEND:20240924T010000Z
X-MICROSOFT-CDO-ALLDAYEVENT:FALSE
SUMMARY:The Fall Wedding Market
DESCRIPTION:Join us for our upcoming Fall Wedding Market\, a unique Wedding Planning & Shopping experience. Meet face-to-face with local artists\, and wedding industry leaders. Whether you're recently engaged\, or your wedding is just a few months away and you're looking for last minute details. Join us this fall for a unique wedding planning and shopping experience at Where 2 Or More Gather's Flower Boutique and Caf \, overlooking the serene San Pasqual Valley\, our Fall Wedding Market Expo is the perfect blend of elegance\, creativity\, and inspiration for your special day. Event Highlights: Meet Local Artists and Industry Leaders: Engage with talented local artists and top wedding industry professionals. Explore their exquisite products and services\, and see them in action as you plan your dream https://docs.google.com/document/d/15fA5Eulcv2Jvt--ldcMXEF-7dg7-NPjkwEy8k3O8XD8/edit
X-ALT-DESC;FMTTYPE=text/html:Join us for our upcoming Fall Wedding Market\, a unique Wedding Planning &amp\; Shopping experience. Meet face-to-face with local artists\, and wedding industry leaders. Whether you&#39\;re recently engaged\, or your wedding is just a few months away and you&#39\;re looking for last minute details. Join us this fall for a unique wedding planning and shopping experience at Where 2 Or More Gather&rsquo\;s Flower Boutique and Caf&eacute\;\, overlooking the serene San Pasqual Valley\, our Fall Wedding Market Expo is the perfect blend of elegance\, creativity\, and inspiration for your special day. Event Highlights: Meet Local Artists and Industry Leaders: Engage with talented local artists and top wedding industry professionals. Explore their exquisite products and services\, and see them in action as you plan your dream https://docs.google.com/document/d/15fA5Eulcv2Jvt--ldcMXEF-7dg7-NPjkwEy8k3O8XD8/edit
LOCATION:Where 2 Or More Gather 1540 Quail Ridge Rd Escondido\, CA 92027
UID:e.1173.13695
SEQUENCE:3
DTSTAMP:20260420T123756Z
URL:https://chamber.sanmarcoschamber.com/events/details/the-fall-wedding-market-13695
END:VEVENT

END:VCALENDAR
