BEGIN:VCALENDAR
VERSION:2.0
PRODID:-//ChamberMaster//Event Calendar 2.0//EN
METHOD:PUBLISH
X-PUBLISHED-TTL:P3D
REFRESH-INTERVAL:P3D
CALSCALE:GREGORIAN
BEGIN:VEVENT
DTSTART:20200218T190000Z
DTEND:20200218T213000Z
X-MICROSOFT-CDO-ALLDAYEVENT:FALSE
SUMMARY:State of the City Address
DESCRIPTION:The San Marcos Chamber of Commerce\n\nProudly Presents\n\nThe Chamber's Business Recognition Luncheon\n\nfeaturing the\n\n \n\nSAN MARCOS\n\nSTATE of the CITY ADDRESS\n\nSan Marcos Mayor Rebecca Jones to deliver the State of the City Address\n\n\n\n\nThe San Marcos Chamber's Board of Directors invites you to join Mayor Rebecca Jones\, council members Sharon Jenkins\, Randy Walton\, Maria Nunez and Jay Petrek\, the Chamber's Board of Directors\, VIPs\, and members of the local business community for this highly-visible and informative annual luncheon. \n\n\n\nThis event is the community's premiere event that showcases the vision of San Marcos and recognizes Chamber businesses for their outstanding and innovative contributions to the community.\n\n\n\nMayor Rebecca Jones will deliver the State of the City Address at California State University San Marcos\, 333 S. Twin Oaks Valley Road\, San Marcos\, in the University Student Union Ballroom as part of the San Marcos Chamber of Commerce Business Recognition Luncheon. Registration and networking will begin at 11am with lunch and program to follow. \n\n\n\nThis highly-visible and traditionally sold-out event provides an opportunity to connect with nearly 400 community advocates\, business leaders\, service organization representatives\, elected officials and leaders of city\, regional and state offices. \n\n\n\nCorporate sponsor packages available. Tickets for upgraded table seating\, which includes lunch\, available for purchase by clicking the registration link.\n\n\n\nGeneral public seating is available at no cost. Advance registration is required. Please contact the San Marcos Chamber of Commerce\, 760-744-1270. \n\n\n\nPARKING INFORMATION - DOWNLOAD
X-ALT-DESC;FMTTYPE=text/html:<div style="text-align: center\;">\n<div _mce_style="color: #00b0d4\;" style="color: #00b0d4\;">\n<div _mce_style="font-size: 14pt\;" style="font-size: 14pt\;"><br />\n<span style="color:#000000\;"><span style="font-family:verdana\;"><strong style="color: rgb(0\, 0\, 0)\; font-family: verdana\; font-size: 24px\; text-align: center\;"><strong><em><span style="font-size: 16px\;">The San Marcos Chamber of Commerce<br />\nProudly Presents<br />\nThe Chamber&#39\;s Business Recognition Luncheon<br />\nfeaturing the</span></em></strong></strong></span></span><br />\n&nbsp\;</div>\n\n<div _mce_style="font-size: 18pt\;" style="font-size: 18pt\;"><span style="color:#336633\;"><span style="font-size:26px\;"><strong style="color: rgb(51\, 102\, 204)\; font-family: verdana\; font-size: 24px\; text-align: center\;">SAN MARCOS<br />\nSTATE of the<strong>&nbsp\;CITY ADDRESS</strong></strong></span></span><br />\n<strong><span style="color:#000000\;"><span style="font-size: 14px\;"><span style="font-family: verdana\;">San Marcos Mayor Rebecca Jones to deliver the State of the City Address</span></span></span></strong></div>\n</div>\n</div>\n<br />\n<span style="color:#000000\;"><span style="font-size: 14px\;"><span style="font-family: verdana\;">The San Marcos Chamber&#39\;s Board of Directors invites you to join Mayor Rebecca Jones\, council members Sharon Jenkins\, Randy Walton\, Maria Nunez and Jay Petrek\, the Chamber&#39\;s Board of Directors\, VIPs\, and members of the local business community for this highly-visible and informative annual luncheon.&nbsp\;<br />\n<br />\nThis event is the community&#39\;s premiere event that showcases the vision of San Marcos and recognizes Chamber businesses for their outstanding and innovative contributions to the community.<br />\n<br />\nMayor Rebecca Jones will deliver the State of the City Address at California State University San Marcos\, 333 S. Twin Oaks Valley Road\, San Marcos\, in the University Student Union Ballroom as part of the San Marcos Chamber of Commerce Business Recognition Luncheon. Registration and networking will begin at 11am with lunch and program to follow.&nbsp\;<br />\n<br />\nThis highly-visible and traditionally sold-out event provides an opportunity to connect with nearly 400 community advocates\, business leaders\, service organization representatives\, elected officials and leaders of city\, regional and state offices.&nbsp\;<br />\n<br />\nCorporate sponsor packages available. Tickets for upgraded table seating\, which includes lunch\, available for purchase by clicking the registration link.<br />\n<br />\nGeneral public seating is available at no cost. Advance registration is required. Please contact the San Marcos Chamber of Commerce\, 760-744-1270.&nbsp\;</span></span></span><br />\n<br />\n<strong><a href="https://chambermaster.blob.core.windows.net/userfiles/UserFiles/chambers/1173/File/ParkingMap.pdf"><span style="color:#B22222\;">PARKING INFORMATION - DOWNLOAD</span></a></strong><br />\n<br />\n<br />\n<br />\n<br />\n<br />\n<br />\n&nbsp\;\n<table border="1" cellpadding="0" cellspacing="0" style="border-collapse:collapse\;border:none\;">\n	<tbody>\n		<tr style="height:411px\;">\n			<td style="width:381px\;border:none\;padding:0in 5.4pt 0in 5.4pt\;height:411px\;vertical-align:top\;">&nbsp\;</td>\n			<td style="width:381px\;border:none\;padding:0in 5.4pt 0in 5.4pt\;height:411px\;vertical-align:top\;">&nbsp\;</td>\n		</tr>\n	</tbody>\n</table>\n<br />\n&nbsp\;
LOCATION:California State University San Marcos University Student Union Ballroom (USU Building) 333 S. Twin Oaks Valley Road San Marcos\, CA 92078 Parking Map: https://chambermaster.blob.core.windows.net/userfiles/UserFiles/chambers/1173/File/ParkingMap.pdf
UID:e.1173.11483
SEQUENCE:3
DTSTAMP:20260423T095308Z
URL:https://chamber.sanmarcoschamber.com/events/details/state-of-the-city-address-02-18-2020-11483
END:VEVENT

END:VCALENDAR
