BEGIN:VCALENDAR
VERSION:2.0
PRODID:-//ChamberMaster//Event Calendar 2.0//EN
METHOD:PUBLISH
X-PUBLISHED-TTL:P3D
REFRESH-INTERVAL:P3D
CALSCALE:GREGORIAN
BEGIN:VEVENT
DTSTART:20260225T200000Z
DTEND:20260225T213000Z
X-MICROSOFT-CDO-ALLDAYEVENT:FALSE
SUMMARY:Plates for 8 Networking Lunch - The Mining Company
DESCRIPTION:Plates for 8 - The Networkers Luncheon\n\nWednesday\, February 25 | 12:00 PM - 1:30 PM\n\nRSVP is required\n\n\n\nThe Mining Company\n\n579 Grand Ave\n\nSan Marcos\, CA 92078\n\n\n\nMake connections and build relationships over a great meal at The Mining Company!\n\n\n\nThis event provides an opportunity for 8 Chamber Members to join for a meal and learn more about each others businesses.  A leader from our membership outreach committee facilitates the event in order to provide and in-depth networking opportunity for a small group. This program is open exclusively to San Marcos Chamber Members and the only cost to you is your lunch.
X-ALT-DESC;FMTTYPE=text/html:<span style="font-family:arial\;"><span style="font-size:18px\;"><span style="font-size:22px\;"><strong>Plates for 8 - The Networkers Luncheon<br />\nWednesday\, February 25 | 12:00 PM - 1:30 PM<br />\nRSVP is required</strong></span><br />\n<br />\n<strong>The Mining Company<br />\n579 Grand Ave<br />\nSan Marcos\, CA 92078</strong></span><br />\n<br />\n<span style="font-size:16px\;">Make connections and build relationships over a great meal at The Mining Company!<br />\n<br />\nThis event provides an opportunity for<strong> 8 Chamber Members</strong> to join for a meal and learn more about each others businesses.&nbsp\; A leader from our membership outreach committee facilitates the event in order to provide and in-depth networking opportunity for a small group.&nbsp\;This program is open exclusively to San Marcos Chamber Members and the only cost to you is your lunch.&nbsp\;</span></span>
LOCATION:The Mining Company 579 Grand Ave San Marcos\, CA 92078
UID:e.1173.14464
SEQUENCE:3
DTSTAMP:20260420T101705Z
URL:https://chamber.sanmarcoschamber.com/events/details/plates-for-8-networking-lunch-the-mining-company-14464
END:VEVENT

END:VCALENDAR
