BEGIN:VCALENDAR
VERSION:2.0
PRODID:-//ChamberMaster//Event Calendar 2.0//EN
METHOD:PUBLISH
X-PUBLISHED-TTL:P3D
REFRESH-INTERVAL:P3D
CALSCALE:GREGORIAN
BEGIN:VEVENT
DTSTART:20230727T233000Z
DTEND:20230728T013000Z
X-MICROSOFT-CDO-ALLDAYEVENT:FALSE
SUMMARY:Meet Your Elected Officials Business Mixer
DESCRIPTION:"9th Annual"\n\nMeet Your Elected Officials\n\nBusiness Mixer\n\n \n\nThursday\, July 27\, 2023\n\n4:30 pm to 6:30 pm\n\n\n\nJoin the San Marcos Chamber on Thursday\, July 27 from 4:30pm - 6:30pm for the 9th Annual Meet Your Elected Officials event. This event provides a great opportunity for guests to meet and connect with elected officials\, key City of San Marcos staff members\, VIPs and business representatives from San Marcos and neighboring cities.\n\n \n\nThe Meet Your Elected Officials event includes food and beverages (Cocina del Charro).  The event will be held at Union Cowork in beautiful North City - San Marcos.\n\n\n\nVisit https://www.northcity.com/visit/ for a parking map. Parking available in PS1 and PS2\n\nThe Chamber will validate parking.\n\n\n\n Contact Melanie Jamil at 760-744-1270 to learn about the marketing and promotion opportunities gained by sponsoring this event.
X-ALT-DESC;FMTTYPE=text/html:<div style="line-height: 20.8px\;"><span style="font-size: 28px\;"><span style="color: rgb(255\, 0\, 0)\;"><span style="font-size: 24px\;">&quot\;9th Annual&quot\;</span></span><br />\n<span style="color: rgb(0\, 0\, 205)\;">Meet Your&nbsp\;Elected Officials<br />\n<span style="font-size: 20px\;">Business Mixer</span></span></span></div>\n\n<div style="line-height: 20.8px\; text-align: center\;">&nbsp\;</div>\n\n<div style="line-height: 20.8px\;"><span style="font-family:tahoma\;"><span style="font-size: 14px\;"><span style="line-height: 20.8px\;">Thursday\, July 27\, 2023</span><br style="line-height: 20.8px\;" />\n<span style="line-height: 20.8px\;">4:30 pm to 6:30&nbsp\;pm</span></span></span><br />\n<br />\n<span style="font-family:tahoma\;"><span style="font-size: 14px\;">Join the San Marcos Chamber on Thursday\, July 27&nbsp\;from 4:30pm - 6:30pm for the 9th Annual Meet Your Elected Officials&nbsp\;event.&nbsp\;This event provides a great opportunity for guests&nbsp\;to meet and connect with elected officials\, key City of San Marcos staff members\, VIPs&nbsp\;and business representatives from San Marcos and neighboring cities.</span></span><br />\n&nbsp\;</div>\n\n<div style="line-height: 20.8px\;"><span style="font-family:tahoma\;"><span style="font-size: 14px\; line-height: 20.8px\;">The Meet Your Elected Officials event includes</span><span style="font-size: 14px\; line-height: 20.8px\;">&nbsp\;food and beverages (Cocina del Charro).&nbsp\;&nbsp\;The event will be held at Union Cowork in beautiful North City - San Marcos.<br />\n<br />\nVisit&nbsp\;<a href="https://www.northcity.com/visit/"><span style="color:#B22222\;">https://www.northcity.com/visit/</span></a><span style="color:#B22222\;">&nbsp\;</span>for a parking map. Parking available in PS1 and PS2</span></span><br />\n<span style="font-size:14px\;"><span style="font-family:tahoma\;">The Chamber will validate parking.<br />\n<br />\n<span style="color: rgb(42\, 42\, 42)\;">&#8203\;Contact Melanie Jamil&nbsp\;at 760-744-1270&nbsp\;</span><span style="color: rgb(42\, 42\, 42)\;">to learn about the marketing and promotion opportunities gained by sponsoring this event.&nbsp\;</span></span></span></div>\n
LOCATION:San Marcos Chamber Office 251 North City Drive\, Suite 128G San Marcos\, CA 92078
UID:e.1173.13186
SEQUENCE:3
DTSTAMP:20260421T013725Z
URL:https://chamber.sanmarcoschamber.com/events/details/meet-your-elected-officials-business-mixer-13186
END:VEVENT

END:VCALENDAR
