BEGIN:VCALENDAR
VERSION:2.0
PRODID:-//ChamberMaster//Event Calendar 2.0//EN
METHOD:PUBLISH
X-PUBLISHED-TTL:P3D
REFRESH-INTERVAL:P3D
CALSCALE:GREGORIAN
BEGIN:VEVENT
DTSTART:20241001T143000Z
DTEND:20241001T173000Z
X-MICROSOFT-CDO-ALLDAYEVENT:FALSE
SUMMARY:Leadership Development Program - San Marcos
DESCRIPTION:San Marcos Leadership Development Program\n\nStart Date: October 1\, 2024\n\n7:30AM -10:30AM\n\n\n\nMISSION\n\nThe San Marcos Chamber of Commerce is committed to the development of leaders to serve in a wide variety of capacities in our community. Our mission is to engage and inspire diverse servant leaders to transform the community through vision\, collaboration\, engagement\, and generosity.\n\n\n\nPROGRAM OVERVIEW \n\nLeadership San Marcos is designed for any professional with an interest in growing their professional development and leadership skills to better serve their business or organization. The 5-week course program (limited to 25 participants) aims to engage emerging leaders\, inspire established leaders\, and develop lasting professional connections with fellow participants. Leadership San Marcos is a program of learning solutions aimed at improving the skill sets\, abilities\, and confidence of current and future leaders.\n\n\n\nMore Info\n\n\n\nDiscover actionable leadership skills and tools on a number of key leadership TOPICS.\n\nBuilding Trust. Emotional Intelligence. Effective Communication Skills. Collaborative Leadership. Overcoming Adversity. Leveraging Technology. Customer Service. Sales & Marketing. \n\n\n\nSchedule:\n\n\n\nBuilding Trust\n\nTuesday\, October 1\, 2024\n\n\n\nEmotional Intelligence\n\nEffective Communication Skills\n\nTuesday\, October 8\, 2024\n\n\n\nCollaborative Leadership\n\nOvercoming Adversity\n\nTuesday\, October 15\, 2024\n\n\n\nLeveraging Technology\n\nCustomer Service\n\nTuesday\, October 22\, 2024\n\n\n\nSales & Marketing | Graduation & Reception\n\nTuesday\, October 29\, 2024\n\n\n\nCertificate of Completion from California State University San Marcos Extended Learning. All program participants will receive a certificate of completion upon successful completion of the entire program.  \n \nParking Information:\n\nParking Validation available at event. \n\nhttps://www.northcity.com/visit/
X-ALT-DESC;FMTTYPE=text/html:<span style="font-size:20px\;"><strong style="font-size: 16px\;">San Marcos&nbsp\;</strong><strong>Leadership Development Program</strong><br>\nStart Date: October 1\, 2024<br>\n7:30AM -10:30AM</span><br>\n<br>\n<strong>MISSION</strong><br>\nThe San Marcos Chamber of Commerce is committed to the development of leaders to serve in a wide variety of capacities in our community. Our mission is to engage and inspire diverse servant leaders to transform the community through vision\, collaboration\, engagement\, and generosity.<br>\n<br>\n<strong>PROGRAM OVERVIEW </strong><br>\nLeadership San Marcos is designed for any professional with an interest in growing their professional development and leadership skills to better serve their business or organization. The 5-week course program (limited to 25 participants) aims to engage emerging leaders\, inspire established leaders\, and develop lasting professional connections with fellow participants. Leadership San Marcos is a program of learning solutions aimed at improving the skill sets\, abilities\, and confidence of current and future leaders.<br>\n<br>\n<u><a href="https://acrobat.adobe.com/id/urn:aaid:sc:US:916c13af-9c28-4eba-bb22-0d8bceeb5583"><span style="font-size:20px\;"><strong>More Info</strong></span></a></u><br>\n<br>\nDiscover actionable leadership skills and tools on a number of key leadership TOPICS.<br>\nBuilding Trust. Emotional Intelligence. Effective Communication Skills. Collaborative Leadership. Overcoming Adversity. Leveraging Technology. Customer Service. Sales &amp\; Marketing.&nbsp\;<br>\n<br>\n<strong>Schedule:</strong><br>\n<br>\n<b>Building Trust</b><br>\nTuesday\, October 1\, 2024<br>\n<br>\n<b>Emotional Intelligence<br>\nEffective Communication Skills</b><br>\nTuesday\, October 8\, 2024<br>\n<br>\n<b>Collaborative Leadership<br>\nOvercoming Adversity</b><br>\nTuesday\, October 15\, 2024<br>\n<br>\n<b>Leveraging Technology<br>\nCustomer Service</b><br>\nTuesday\, October 22\, 2024<br>\n<br>\n<b>Sales &amp\; Marketing | Graduation &amp\; Reception</b><br>\nTuesday\, October 29\, 2024<br>\n<br>\n<em>Certificate of Completion from California State University San Marcos Extended Learning. All program participants will receive a certificate of completion upon successful completion of the entire program.&nbsp\;&#8203\;</em>\n<div style="margin-left:0in\;">&nbsp\;</div>\n<strong><span style="color:#0000FF\;">Parking Information:<br>\nParking Validation available at event.&nbsp\;</span><br>\n<a href="https://www.northcity.com/visit/"><span style="color:#0000FF\;">https://www.northcity.com/visit/</span></a></strong><br>\n<br>\n<br>\n&nbsp\;
LOCATION:Union Cowork 251 North City Drive\, Suite 128F San Marcos\, CA 92078
UID:e.1173.13693
SEQUENCE:3
DTSTAMP:20260424T112409Z
URL:https://chamber.sanmarcoschamber.com/events/details/leadership-development-program-san-marcos-13693
END:VEVENT

END:VCALENDAR
