BEGIN:VCALENDAR
VERSION:2.0
PRODID:-//ChamberMaster//Event Calendar 2.0//EN
METHOD:PUBLISH
X-PUBLISHED-TTL:P3D
REFRESH-INTERVAL:P3D
CALSCALE:GREGORIAN
BEGIN:VEVENT
DTSTART:20180929T140000Z
DTEND:20180929T180000Z
X-MICROSOFT-CDO-ALLDAYEVENT:FALSE
SUMMARY:Double Peak Challenge
DESCRIPTION:Double Peak Challenge 10K is a celebration of outdoor recreation like no other\, where trail runners will experience unparalleled beauty from atop North County's highest point. Off-road racers will begin the 1176 foot elevation gain\, winding along beautiful hillside trails with amazing views. Also offered is a 5K fun run & Kids Trail Trot.
X-ALT-DESC;FMTTYPE=text/html:Double Peak Challenge 10K is a celebration of outdoor recreation like no other\, where trail runners will experience unparalleled beauty from atop North County&#39\;s highest point. Off-road racers will begin the 1176 foot elevation gain\, winding along beautiful hillside trails with amazing views. Also offered is a 5K fun run &amp\; Kids Trail Trot.
LOCATION:San Elijo Park\, 1105 Elfin Forest Rd\, San Marcos
UID:e.1173.9654
SEQUENCE:3
DTSTAMP:20260421T083508Z
URL:https://chamber.sanmarcoschamber.com/events/details/double-peak-challenge-9654
END:VEVENT

END:VCALENDAR
