BEGIN:VCALENDAR
VERSION:2.0
PRODID:-//ChamberMaster//Event Calendar 2.0//EN
METHOD:PUBLISH
X-PUBLISHED-TTL:P3D
REFRESH-INTERVAL:P3D
CALSCALE:GREGORIAN
BEGIN:VEVENT
DTSTART:20240717T150000Z
DTEND:20240717T160000Z
X-MICROSOFT-CDO-ALLDAYEVENT:FALSE
SUMMARY:Coffee Connections
DESCRIPTION:San Marcos Chamber\n\nCoffee Connections\n\n \n\nGet Connected!\n\nCoffee Connections is held on the third Wednesday morning of every month at 8:00 AM\, and is hosted by a member business. \n\n\n\nIt's not just a cup of coffee\, but an opportunity to meet with other business professionals and community leaders\, build new partnerships\, make new friends\, and exchange ideas in a comfortable and intimate environment.\n\n\n\nCoffee Connections is FREE to all members and $25 for prospective members. \n\n\n\nThank you to our July Coffee Connections Sponsor NFP Property & Casualty Insurance Services\, Inc.
X-ALT-DESC;FMTTYPE=text/html:<div style="text-align: center\;">\n<div style="text-align: left\;"><br />\n<span style="font-size:12px\;"><span style="font-family:verdana\;"><span style="font-size:14px\;"><span style="font-size:16px\;"><strong><span style="font-size:18px\;">San Marcos Chamber<br />\nCoffee Connections</span></strong></span></span></span></span><br />\n&nbsp\;</div>\n\n<div _mce_style="text-align: left\; font-size: 18pt\; font-family: Georgia\, 'Times New Roman'\, Times\, serif\;" new="" style="color: rgb(255\, 255\, 255)\; text-align: left\;" times=""><span style="font-size: 16px\;"><span style="color: rgb(0\, 0\, 0)\;"><strong>Get Connected!</strong><br />\nCoffee Connections is held on the third Wednesday morning of every month at 8:00 AM\, and is hosted by a member business.&nbsp\;<br />\n<br />\nIt&#39\;s not just a cup of coffee\, but an opportunity to meet with other business professionals and community leaders\, build new partnerships\, make new friends\, and exchange ideas in a comfortable and intimate environment.<br />\n<br />\nCoffee Connections is FREE to all members and $25&nbsp\;for prospective members.&nbsp\;<br />\n<br />\nThank you to our July Coffee Connections Sponsor NFP Property &amp\; Casualty Insurance Services\, Inc.</span></span><br />\n<br />\n<br />\n<br />\n<br />\n&nbsp\;</div>\n</div>\n
LOCATION:Valley of Discovery Room - City Hall 1 Civic Center Dr San Marcos\, CA 92069
UID:e.1173.13681
SEQUENCE:3
DTSTAMP:20260426T014333Z
URL:https://chamber.sanmarcoschamber.com/events/details/coffee-connections-13681
END:VEVENT

END:VCALENDAR
