BEGIN:VCALENDAR
VERSION:2.0
PRODID:-//ChamberMaster//Event Calendar 2.0//EN
METHOD:PUBLISH
X-PUBLISHED-TTL:P3D
REFRESH-INTERVAL:P3D
CALSCALE:GREGORIAN
BEGIN:VEVENT
DTSTART;VALUE=DATE:20211115
DTEND;VALUE=DATE:20211116
TRANSP:TRANSPARENT
X-MICROSOFT-CDO-ALLDAYEVENT:TRUE
SUMMARY:13th Annual San Marcos Rotary Foundation Golf Tournament
DESCRIPTION:13th Annual San Marcos Rotary Foundation Golf Tournament
X-ALT-DESC;FMTTYPE=text/html:13th Annual San Marcos Rotary Foundation Golf Tournament<br />\n&nbsp\;
LOCATION:Twin Oaks Golf Course
UID:e.1173.12862
SEQUENCE:3
DTSTAMP:20260420T103413Z
URL:https://chamber.sanmarcoschamber.com/events/details/13th-annual-san-marcos-rotary-foundation-golf-tournament-12862
END:VEVENT

END:VCALENDAR
