BEGIN:VCALENDAR
VERSION:2.0
PRODID:-//ChamberMaster//Event Calendar 2.0//EN
METHOD:PUBLISH
X-PUBLISHED-TTL:P3D
REFRESH-INTERVAL:P3D
CALSCALE:GREGORIAN
BEGIN:VEVENT
DTSTART:20250924T190000Z
DTEND:20250924T203000Z
X-MICROSOFT-CDO-ALLDAYEVENT:FALSE
SUMMARY:Plates for 8 Networking Lunch - Brickman's
DESCRIPTION:Plates for 8  \n\nThe Networkers Luncheon @ Brickmans Restaurant & Bar!\n\n\n\nWednesday\, September 24th @ 12:00 PM - 1:30 PM\n\nRSVP is required!\n\n\n\nMake connections and build relationships over a great meal at Brickmans Restaurant & Bar!\n\n \nReady to make new connections and grow your business? Plates for 8 brings together a small group of Chamber Members for great food\, meaningful conversations\, and valuable relationship-building   all in a casual\, comfortable setting.\n\nWith only 8 spots at the table\, you'll have the chance to really get to know fellow members\, share your business\, and discover new opportunities to collaborate. The conversation is guided by our Membership Outreach Committee to keep things fun\, easy\, and engaging.
X-ALT-DESC;FMTTYPE=text/html:<span style="font-size:28px\;"><span style="color:#000000\;"><strong>Plates for 8</strong></span>&#127869\;&#65039\;</span><br />\n<span style="color:#000000\;"><span style="font-size:20px\;"><strong><span style="font-size:22px\;">The Networkers Luncheon @ </span></strong></span></span><strong><span style="font-size:22px\;">Brickmans Restaurant &amp\; Bar!</span></strong><br />\n<br />\n<span style="color:#000000\;"><span style="font-size:20px\;"><strong><span style="font-size:22px\;">Wednesday\, September 24th @ 12:00 PM - 1:30 PM<br />\nRSVP is required!</span></strong></span><br />\n<br />\n<span style="font-size:18px\;">Make connections and build relationships over a great meal at Brickmans Restaurant &amp\; Bar!</span></span><br />\n&nbsp\;\n<p data-end="450" data-start="216"><span style="font-size:18px\;">Ready to make new connections and grow your business? Plates for 8 brings together a small group of Chamber Members for great food\, meaningful conversations\, and valuable relationship-building &mdash\; all in a casual\, comfortable setting.</span></p>\n\n<p data-end="718" data-start="452"><span style="font-size:18px\;">With only 8 spots at the table\, you&#39\;ll have the chance to really get to know fellow members\, share your business\, and discover new opportunities to collaborate. The conversation is guided by our Membership Outreach Committee to keep things fun\, easy\, and engaging.</span></p>\n
LOCATION:Brickmans Restaurant & Bar 1750 San Pablo Dr San Marcos\, CA 92078
UID:e.1173.14198
SEQUENCE:3
DTSTAMP:20260419T140055Z
URL:http://chamber.sanmarcoschamber.com/events/details/plates-for-8-networking-lunch-brickman-s-14198
END:VEVENT

END:VCALENDAR
