BEGIN:VCALENDAR
VERSION:2.0
PRODID:-//ChamberMaster//Event Calendar 2.0//EN
METHOD:PUBLISH
X-PUBLISHED-TTL:P3D
REFRESH-INTERVAL:P3D
CALSCALE:GREGORIAN
BEGIN:VEVENT
DTSTART:20260429T230000Z
DTEND:20260430T010000Z
X-MICROSOFT-CDO-ALLDAYEVENT:FALSE
SUMMARY:Cheers & Chats Happy Hour @ Craft Coast
DESCRIPTION:Cheers & Chats Happy Hour \n\nWednesday\, April 29th | 4:00PM - 6:00PM\nCraft Coast - San Marcos\n\n1325 Grand Ave #100\n\nSan Marcos\, CA 92078\n\n\n\nWind down with us at the Cheers & Chats Happy Hour!\n\n\n\nJoin us on Thursday\, February 12th\, from 4:00 6:00 PM at Craft Coast in San Marcos for a relaxed\, after-work social gathering designed for easy conversation\, new connections\, and a great way to end your day.\n\n \n\nThis isn't a formal mixer\, just a casual\, come-as-you-are hour to meet great people\, enjoy the atmosphere\, and connect with your San Marcos business community. No agenda\, no program\, just good company and good conversation.\n\n\n\nCome sip and socialize\, we'd love to see you there!
X-ALT-DESC;FMTTYPE=text/html:<div style="line-height: 20.8px\;">\n<h2 data-end="168" data-start="109"><span style="font-family:arial\;"><span style="color:#bc5f6c\;"><span style="font-size:28px\;"><b>Cheers &amp\; Chats Happy Hour</b>&#127867\;</span></span><br />\n<strong><span style="font-size:18px\;">Wednesday\, April 29th&nbsp\;| 4:00PM - 6:00PM</span></strong></span></h2>\n<strong><span style="font-size:16px\;">Craft Coast - San Marcos<br />\n1325 Grand Ave #100<br />\nSan Marcos\, CA 92078</span></strong><br />\n<br />\n<span style="font-family:arial\;">Wind down with us at the Cheers &amp\; Chats Happy Hour!<br />\n<br />\nJoin us on Thursday\, February 12th\, from 4:00&ndash\;6:00 PM at Craft Coast in San Marcos&nbsp\;for a relaxed\, after-work social gathering designed for easy conversation\, new connections\, and a great way to end your day.<br />\n&nbsp\;<br />\nThis isn&rsquo\;t a formal mixer\, just a casual\, come-as-you-are hour to meet great people\, enjoy the atmosphere\, and connect with your San Marcos business community. No agenda\, no program\, just good company and good conversation.<br />\n<br />\nCome sip and socialize\, we&rsquo\;d love to see you there!</span></div>\n
LOCATION:Craft Coast - San Marcos 1325 Grand Ave #100 San Marcos\, CA 92078
UID:e.1173.14500
SEQUENCE:3
DTSTAMP:20260420T214256Z
URL:http://chamber.sanmarcoschamber.com/events/details/cheers-chats-happy-hour-craft-coast-14500
END:VEVENT

END:VCALENDAR
